BEGIN:VCALENDAR
VERSION:2.0
PRODID:http://migrosmuseum.ch/event/
CALSCALE:GREGORIAN

BEGIN:VEVENT
DTSTART:20250405T160000
DTEND:20250405T170000
DTSTAMP:20260423T123706
UID:1038908
SUMMARY:«Der Umbau» von Nils Amadeus Lange
LOCATION:Migros Museum für Gegenwartskunst
END:VEVENT

END:VCALENDAR