BEGIN:VCALENDAR
VERSION:2.0
PRODID:http://migrosmuseum.ch/event/
CALSCALE:GREGORIAN

BEGIN:VEVENT
DTSTART:20250111T160000
DTEND:20250111T180000
DTSTAMP:20260419T215124
UID:1037546
SUMMARY:Black Stammtisch @ Migros Museum für Gegenwartskunst
LOCATION:Migros Museum für Gegenwartskunst
END:VEVENT

END:VCALENDAR